BEGIN:VCALENDAR
VERSION:2.0
PRODID:-//wp-events-plugin.com//7.2.3.1//EN
TZID:America/Jamaica
X-WR-TIMEZONE:America/Jamaica
BEGIN:VEVENT
UID:1@portmorentcog.org
DTSTART;TZID=America/Jamaica:20230205T193000
DTEND;TZID=America/Jamaica:20230217T210000
DTSTAMP:20230118T174156Z
URL:https://portmorentcog.org/events/crusade-2023/
SUMMARY:Crusade 2023
DESCRIPTION:Under the theme ‘SOS (Save Our Souls)….Come’ we go to the
  community of 1 & 2 North\, East Ascot in Greater Portmore\, to reach out 
 to souls with the true and saving gospel of Jesus Christ. Join us nightly 
 at 7:30 pm to 9 pm.
END:VEVENT
BEGIN:VEVENT
UID:3@portmorentcog.org
DTSTART;VALUE=DATE:20250425
DTEND;VALUE=DATE:20250427
DTSTAMP:20250421T202933Z
URL:https://portmorentcog.org/events/youth-congress/
SUMMARY:Youth Congress
DESCRIPTION:
CATEGORIES:Youth Congress
END:VEVENT
BEGIN:VEVENT
UID:4@portmorentcog.org
DTSTART:20250624T193000Z
DTEND:20250624T220000Z
DTSTAMP:20250623T221510Z
URL:https://portmorentcog.org/events/rally/
SUMMARY:Rally
DESCRIPTION:
CATEGORIES:Rally
END:VEVENT
BEGIN:VEVENT
UID:6@portmorentcog.org
DTSTART:20250709T090000Z
DTEND:20250713T213000Z
DTSTAMP:20250614T202240Z
URL:https://portmorentcog.org/events/national-convention/
SUMMARY:National Convention
DESCRIPTION:
CATEGORIES:Convention
END:VEVENT
BEGIN:VEVENT
UID:5@portmorentcog.org
DTSTART:20250727T190000Z
DTEND:20250727T213000Z
DTSTAMP:20250507T012715Z
URL:https://portmorentcog.org/events/rally-of-the-months/
SUMMARY:Rally of the Months
DESCRIPTION:
CATEGORIES:Rally
END:VEVENT
BEGIN:VEVENT
UID:2@portmorentcog.org
DTSTART;VALUE=DATE:20251017
DTEND;VALUE=DATE:20251020
DTSTAMP:20250507T012612Z
URL:https://portmorentcog.org/events/annual-church-retreat/
SUMMARY:Annual Church Retreat
DESCRIPTION:
CATEGORIES:Church Retreat
END:VEVENT
BEGIN:VTIMEZONE
TZID:America/Jamaica
X-LIC-LOCATION:America/Jamaica
BEGIN:STANDARD
DTSTART:20220205T193000
TZOFFSETFROM:-0500
TZOFFSETTO:-0500
TZNAME:EST
END:STANDARD
END:VTIMEZONE
END:VCALENDAR